BEGIN:VCALENDAR
VERSION:2.0
PRODID:-//Vespa Club Sabadell - ECPv6.15.11//NONSGML v1.0//EN
CALSCALE:GREGORIAN
METHOD:PUBLISH
X-ORIGINAL-URL:https://www.vespaclubsabadell.cat
X-WR-CALDESC:Eventos para Vespa Club Sabadell
REFRESH-INTERVAL;VALUE=DURATION:PT1H
X-Robots-Tag:noindex
X-PUBLISHED-TTL:PT1H
BEGIN:VTIMEZONE
TZID:UTC
BEGIN:STANDARD
TZOFFSETFROM:+0000
TZOFFSETTO:+0000
TZNAME:UTC
DTSTART:20140101T000000
END:STANDARD
END:VTIMEZONE
BEGIN:VEVENT
DTSTART;TZID=UTC:20160112T080000
DTEND;TZID=UTC:20160112T170000
DTSTAMP:20260419T132334
CREATED:20160112T213201Z
LAST-MODIFIED:20160112T213201Z
UID:539-1452585600-1452618000@www.vespaclubsabadell.cat
SUMMARY:Sortida a la Bauma
DESCRIPTION:Benvolguts\, \nel proper 13 de Novembre el Vespa Club Sabadell organitzarà un esmorzar de forquilla a La Bauma. \nMés informació properament. \nSalutacions\, \nVCS \n\n 
URL:https://www.vespaclubsabadell.cat/event/sortida-a-la-bauma/
LOCATION:Lloc de sortida: Club Vespa Sabadell\, Plaça de les Termes 16\, Sabadell\, 08204\, España
END:VEVENT
BEGIN:VEVENT
DTSTART;TZID=UTC:20160105T180000
DTEND;TZID=UTC:20160105T210000
DTSTAMP:20260419T132334
CREATED:20160109T154712Z
LAST-MODIFIED:20160109T154712Z
UID:489-1452016800-1452027600@www.vespaclubsabadell.cat
SUMMARY:Cavalcada de reis 2016 de Sabadell
DESCRIPTION:El Vespa Club Sabadell ajudarà com ja és tradició a la repartició de regals de Ses Majestats els Reis Mags d’Orient \nEls Reis Mags d’Orient\, ajudats pels membres del Vespa Club Sabadell\, i acompanyats pels seus patges reials\, el proper 5 de Gener a repartir els regals per tots els nens i nenes sabadellencs i sabadellenques que s’han portat bé. \nSi voleu veure la tasca que tots els col·laboradors com el Vespa Club Sabadell no us perdeu la cavalcada d’aquest any. \nI recordeu que si encara no teniu la vostra carta preparada\, agafeu paper i llapis i a escriure! I\, sobretot\, porteu-vos bé! \nVCS
URL:https://www.vespaclubsabadell.cat/event/cavalcada-de-reis-2016-de-sabadell/
END:VEVENT
BEGIN:VEVENT
DTSTART;TZID=UTC:20151108T080000
DTEND;TZID=UTC:20151108T170000
DTSTAMP:20260419T132334
CREATED:20151028T233513Z
LAST-MODIFIED:20151130T222853Z
UID:459-1446969600-1447002000@www.vespaclubsabadell.cat
SUMMARY:Pujada Sabadell - Montserrat 2015
DESCRIPTION:El Vespa Club Sabadell es complau de convidar-vos a una pujada a Montserrat el proper 8 de Novembre de 2015. \nSi tens una moto clàsica estàs convidat a a venir. \nLa sortida serà a les 9 hores a la seu del Vespa Club Sabadell\, situat a la plaça Les Termes 16 de Sabadell. \n\n		\n		\n			\n				\n			\n			\n				\n			\n			\n				\n			\n			\n				\n			\n			\n				\n			\n			\n		\n\nL’esmorçar el farem a Restaurant Café Burés. \nEl preu d’aquest esdeveniment és de 10 euros socis\, 12 euros no socis. \nFins aviat!\nVCS
URL:https://www.vespaclubsabadell.cat/event/sabadell-montserrat/
END:VEVENT
END:VCALENDAR